BEGIN:VCALENDAR
VERSION:2.0
PRODID:-//wp-events-plugin.com//7.2.3.1//EN
TZID:Europe/London
X-WR-TIMEZONE:Europe/London
BEGIN:VEVENT
UID:88@marielwitmond.com
DTSTART;TZID=Europe/London:20220508T080000
DTEND;TZID=Europe/London:20220508T090000
DTSTAMP:20220421T120401Z
URL:https://marielwitmond.com/schedule/1-hr-vinyasa-baby-grasshopper-2/
SUMMARY:1 hr Vinyasa - Baby Grasshopper
DESCRIPTION:
CATEGORIES:1 Hour Vinyasa
LOCATION:https://kuula.tv/mindfulsonder/library/files/tFH5WmpTVFNzE9CcQXL7z
 55L83j6pq8SZnbtwjRu
END:VEVENT
BEGIN:VTIMEZONE
TZID:Europe/London
X-LIC-LOCATION:Europe/London
BEGIN:DAYLIGHT
DTSTART:20220327T020000
TZOFFSETFROM:+0000
TZOFFSETTO:+0100
TZNAME:BST
END:DAYLIGHT
END:VTIMEZONE
END:VCALENDAR