BEGIN:VCALENDAR
VERSION:2.0
PRODID:-//wp-events-plugin.com//7.2.3.1//EN
TZID:Europe/London
X-WR-TIMEZONE:Europe/London
BEGIN:VEVENT
UID:31@marielwitmond.com
DTSTART;TZID=Europe/London:20211018T093000
DTEND;TZID=Europe/London:20211018T103000
DTSTAMP:20210930T081419Z
URL:https://marielwitmond.com/schedule/1-hr-twist-and-show-up/
SUMMARY:1 hr - "Twist and Show Up"
DESCRIPTION:
CATEGORIES:1 Hour Vinyasa
LOCATION:https://kuula.tv/mindfulsonder/library/files/WGuJ5yfzhddkRP0UM6n60
 Z76582aPUd9WQh1EOy7
END:VEVENT
BEGIN:VTIMEZONE
TZID:Europe/London
X-LIC-LOCATION:Europe/London
BEGIN:DAYLIGHT
DTSTART:20210328T020000
TZOFFSETFROM:+0000
TZOFFSETTO:+0100
TZNAME:BST
END:DAYLIGHT
END:VTIMEZONE
END:VCALENDAR