BEGIN:VCALENDAR
VERSION:2.0
PRODID:-//wp-events-plugin.com//7.2.3.1//EN
TZID:Europe/London
X-WR-TIMEZONE:Europe/London
BEGIN:VEVENT
UID:65@marielwitmond.com
DTSTART;TZID=Europe/London:20211113T103000
DTEND;TZID=Europe/London:20211113T113000
DTSTAMP:20211101T165103Z
URL:https://marielwitmond.com/schedule/1-hr-mobility-mandala/
SUMMARY:1 Hr - Mobility Mandala
DESCRIPTION:
CATEGORIES:1 Hour Vinyasa
LOCATION:https://kuula.tv/mindfulsonder/library/files/Tr6pXIKrlWjW9bHpE6oCG
 4hs32kavAUqnbRLzHwQ
END:VEVENT
BEGIN:VTIMEZONE
TZID:Europe/London
X-LIC-LOCATION:Europe/London
BEGIN:STANDARD
DTSTART:20211031T010000
TZOFFSETFROM:+0100
TZOFFSETTO:+0000
TZNAME:GMT
END:STANDARD
END:VTIMEZONE
END:VCALENDAR