BEGIN:VCALENDAR
VERSION:2.0
PRODID:-//wp-events-plugin.com//7.2.3.1//EN
TZID:Europe/London
X-WR-TIMEZONE:Europe/London
BEGIN:VEVENT
UID:85@marielwitmond.com
DTSTART;TZID=Europe/London:20220505T070000
DTEND;TZID=Europe/London:20220505T080000
DTSTAMP:20220421T115728Z
URL:https://marielwitmond.com/schedule/1-hr-hiit-yoga-legs-2/
SUMMARY:1 hr Hiit Yoga - Legs
DESCRIPTION:
CATEGORIES:Hiit Power Yoga/Functional Movement
LOCATION:https://kuula.tv/mindfulsonder/library/files/DfMESyagSHGvncnPDYJeM
 wfVX4S79O6ttHfcV9OW
END:VEVENT
BEGIN:VTIMEZONE
TZID:Europe/London
X-LIC-LOCATION:Europe/London
BEGIN:DAYLIGHT
DTSTART:20220327T020000
TZOFFSETFROM:+0000
TZOFFSETTO:+0100
TZNAME:BST
END:DAYLIGHT
END:VTIMEZONE
END:VCALENDAR