BEGIN:VCALENDAR
VERSION:2.0
PRODID:-//wp-events-plugin.com//7.2.3.1//EN
TZID:Europe/London
X-WR-TIMEZONE:Europe/London
BEGIN:VEVENT
UID:27@marielwitmond.com
DTSTART;TZID=Europe/London:20211006T110000
DTEND;TZID=Europe/London:20211006T120000
DTSTAMP:20210926T123020Z
URL:https://marielwitmond.com/schedule/1-hr-hiit-lower-half/
SUMMARY:1 hr Hiit - Lower Half
DESCRIPTION:
CATEGORIES:Hiit Power Yoga/Functional Movement
LOCATION:http://1%20hr%20Hiit%20-%20Lower%20Half
END:VEVENT
BEGIN:VTIMEZONE
TZID:Europe/London
X-LIC-LOCATION:Europe/London
BEGIN:DAYLIGHT
DTSTART:20210328T020000
TZOFFSETFROM:+0000
TZOFFSETTO:+0100
TZNAME:BST
END:DAYLIGHT
END:VTIMEZONE
END:VCALENDAR