BEGIN:VCALENDAR
VERSION:2.0
PRODID:-//wp-events-plugin.com//7.2.3.1//EN
TZID:Europe/London
X-WR-TIMEZONE:Europe/London
BEGIN:VEVENT
UID:23@marielwitmond.com
DTSTART;TZID=Europe/London:20211015T093000
DTEND;TZID=Europe/London:20211015T103000
DTSTAMP:20210930T071937Z
URL:https://marielwitmond.com/schedule/1-hr-forearm-mandala/
SUMMARY:1 hr - Forearm Mandala
DESCRIPTION:
CATEGORIES:1 Hour Vinyasa
LOCATION:https://kuula.tv/mindfulsonder/library/files/rLF8pOifSTam4IqWpJEYI
 4z8Q3CabxGrUaTk00an
END:VEVENT
BEGIN:VTIMEZONE
TZID:Europe/London
X-LIC-LOCATION:Europe/London
BEGIN:DAYLIGHT
DTSTART:20210328T020000
TZOFFSETFROM:+0000
TZOFFSETTO:+0100
TZNAME:BST
END:DAYLIGHT
END:VTIMEZONE
END:VCALENDAR