BEGIN:VCALENDAR
VERSION:2.0
PRODID:-//wp-events-plugin.com//7.2.3.1//EN
TZID:Europe/London
X-WR-TIMEZONE:Europe/London
BEGIN:VEVENT
UID:12@marielwitmond.com
DTSTART;TZID=Europe/London:20210922T180000
DTEND;TZID=Europe/London:20210922T190000
DTSTAMP:20210914T084400Z
URL:https://marielwitmond.com/schedule/1-hr-air-mandala/
SUMMARY:1 hr - Air Mandala
DESCRIPTION:
CATEGORIES:1 Hour Vinyasa
LOCATION:https://kuula.tv/mindfulsonder/library/files/L8mIToU5eEA9rqK8GEe6x
 tKAf67ojEHVlXzxtAsW
END:VEVENT
BEGIN:VTIMEZONE
TZID:Europe/London
X-LIC-LOCATION:Europe/London
BEGIN:DAYLIGHT
DTSTART:20210328T020000
TZOFFSETFROM:+0000
TZOFFSETTO:+0100
TZNAME:BST
END:DAYLIGHT
END:VTIMEZONE
END:VCALENDAR